BEGIN:VCALENDAR
VERSION:2.0
PRODID:-//Branson Regional Arts Council - ECPv6.15.20//NONSGML v1.0//EN
CALSCALE:GREGORIAN
METHOD:PUBLISH
X-ORIGINAL-URL:https://bransonarts.org
X-WR-CALDESC:Events for Branson Regional Arts Council
REFRESH-INTERVAL;VALUE=DURATION:PT1H
X-Robots-Tag:noindex
X-PUBLISHED-TTL:PT1H
BEGIN:VTIMEZONE
TZID:America/Chicago
BEGIN:DAYLIGHT
TZOFFSETFROM:-0600
TZOFFSETTO:-0500
TZNAME:CDT
DTSTART:20250309T080000
END:DAYLIGHT
BEGIN:STANDARD
TZOFFSETFROM:-0500
TZOFFSETTO:-0600
TZNAME:CST
DTSTART:20251102T070000
END:STANDARD
BEGIN:DAYLIGHT
TZOFFSETFROM:-0600
TZOFFSETTO:-0500
TZNAME:CDT
DTSTART:20260308T080000
END:DAYLIGHT
BEGIN:STANDARD
TZOFFSETFROM:-0500
TZOFFSETTO:-0600
TZNAME:CST
DTSTART:20261101T070000
END:STANDARD
BEGIN:DAYLIGHT
TZOFFSETFROM:-0600
TZOFFSETTO:-0500
TZNAME:CDT
DTSTART:20270314T080000
END:DAYLIGHT
BEGIN:STANDARD
TZOFFSETFROM:-0500
TZOFFSETTO:-0600
TZNAME:CST
DTSTART:20271107T070000
END:STANDARD
END:VTIMEZONE
BEGIN:VEVENT
DTSTART;TZID=America/Chicago:20260205T193000
DTEND;TZID=America/Chicago:20260205T213000
DTSTAMP:20260420T091829
CREATED:20260205T015338Z
LAST-MODIFIED:20260205T015800Z
UID:15167-1770319800-1770327000@bransonarts.org
SUMMARY:The Prince of Egypt The Musical
DESCRIPTION:Lorie Best
URL:https://bransonarts.org/event/tickets/
ATTACH;FMTTYPE=image/jpeg:https://bransonarts.org/wp-content/uploads/2026/02/prince-e1770257850513.jpg
END:VEVENT
BEGIN:VEVENT
DTSTART;TZID=America/Chicago:20260206T193000
DTEND;TZID=America/Chicago:20260206T213000
DTSTAMP:20260420T091829
CREATED:20260205T020045Z
LAST-MODIFIED:20260205T020045Z
UID:15172-1770406200-1770413400@bransonarts.org
SUMMARY:The Prince of Egypt The Musical
DESCRIPTION:Lorie Best
URL:https://bransonarts.org/event/tickets-2/
ATTACH;FMTTYPE=image/jpeg:https://bransonarts.org/wp-content/uploads/2026/02/prince-e1770257850513.jpg
END:VEVENT
BEGIN:VEVENT
DTSTART;TZID=America/Chicago:20260207T193000
DTEND;TZID=America/Chicago:20260207T213000
DTSTAMP:20260420T091829
CREATED:20260205T020117Z
LAST-MODIFIED:20260205T020117Z
UID:15175-1770492600-1770499800@bransonarts.org
SUMMARY:The Prince of Egypt The Musical
DESCRIPTION:Lorie Best
URL:https://bransonarts.org/event/tickets-2-2/
ATTACH;FMTTYPE=image/jpeg:https://bransonarts.org/wp-content/uploads/2026/02/prince-e1770257850513.jpg
END:VEVENT
BEGIN:VEVENT
DTSTART;TZID=America/Chicago:20260208T140000
DTEND;TZID=America/Chicago:20260208T160000
DTSTAMP:20260420T091829
CREATED:20260205T020156Z
LAST-MODIFIED:20260205T022031Z
UID:15178-1770559200-1770566400@bransonarts.org
SUMMARY:The Prince of Egypt The Musical
DESCRIPTION:Lorie Best
URL:https://bransonarts.org/event/tickets-2-2-2-7/
ATTACH;FMTTYPE=image/jpeg:https://bransonarts.org/wp-content/uploads/2026/02/prince-e1770257850513.jpg
END:VEVENT
BEGIN:VEVENT
DTSTART;TZID=America/Chicago:20260212T140000
DTEND;TZID=America/Chicago:20260212T160000
DTSTAMP:20260420T091829
CREATED:20260205T020308Z
LAST-MODIFIED:20260205T020308Z
UID:15185-1770904800-1770912000@bransonarts.org
SUMMARY:The Prince of Egypt The Musical
DESCRIPTION:Lorie Best
URL:https://bransonarts.org/event/tickets-2-2-2-3/
ATTACH;FMTTYPE=image/jpeg:https://bransonarts.org/wp-content/uploads/2026/02/prince-e1770257850513.jpg
END:VEVENT
BEGIN:VEVENT
DTSTART;TZID=America/Chicago:20260213T140000
DTEND;TZID=America/Chicago:20260213T160000
DTSTAMP:20260420T091829
CREATED:20260205T020318Z
LAST-MODIFIED:20260205T021742Z
UID:15186-1770991200-1770998400@bransonarts.org
SUMMARY:The Prince of Egypt The Musical
DESCRIPTION:Lorie Best
URL:https://bransonarts.org/event/tickets-2-2-2-4/
ATTACH;FMTTYPE=image/jpeg:https://bransonarts.org/wp-content/uploads/2026/02/prince-e1770257850513.jpg
END:VEVENT
BEGIN:VEVENT
DTSTART;TZID=America/Chicago:20260214T140000
DTEND;TZID=America/Chicago:20260214T160000
DTSTAMP:20260420T091829
CREATED:20260205T020327Z
LAST-MODIFIED:20260205T021755Z
UID:15187-1771077600-1771084800@bransonarts.org
SUMMARY:The Prince of Egypt The Musical
DESCRIPTION:Lorie Best
URL:https://bransonarts.org/event/tickets-2-2-2-5/
ATTACH;FMTTYPE=image/jpeg:https://bransonarts.org/wp-content/uploads/2026/02/prince-e1770257850513.jpg
END:VEVENT
BEGIN:VEVENT
DTSTART;TZID=America/Chicago:20260215T140000
DTEND;TZID=America/Chicago:20260215T160000
DTSTAMP:20260420T091829
CREATED:20260205T020239Z
LAST-MODIFIED:20260205T021810Z
UID:15182-1771164000-1771171200@bransonarts.org
SUMMARY:The Prince of Egypt The Musical
DESCRIPTION:Lorie Best
URL:https://bransonarts.org/event/tickets-2-2-2-2-3/
ATTACH;FMTTYPE=image/jpeg:https://bransonarts.org/wp-content/uploads/2026/02/prince-e1770257850513.jpg
END:VEVENT
END:VCALENDAR