BEGIN:VCALENDAR
VERSION:2.0
PRODID:-//Branson Regional Arts Council - ECPv6.15.20//NONSGML v1.0//EN
CALSCALE:GREGORIAN
METHOD:PUBLISH
X-ORIGINAL-URL:https://bransonarts.org
X-WR-CALDESC:Events for Branson Regional Arts Council
REFRESH-INTERVAL;VALUE=DURATION:PT1H
X-Robots-Tag:noindex
X-PUBLISHED-TTL:PT1H
BEGIN:VTIMEZONE
TZID:America/Chicago
BEGIN:DAYLIGHT
TZOFFSETFROM:-0600
TZOFFSETTO:-0500
TZNAME:CDT
DTSTART:20240310T080000
END:DAYLIGHT
BEGIN:STANDARD
TZOFFSETFROM:-0500
TZOFFSETTO:-0600
TZNAME:CST
DTSTART:20241103T070000
END:STANDARD
BEGIN:DAYLIGHT
TZOFFSETFROM:-0600
TZOFFSETTO:-0500
TZNAME:CDT
DTSTART:20250309T080000
END:DAYLIGHT
BEGIN:STANDARD
TZOFFSETFROM:-0500
TZOFFSETTO:-0600
TZNAME:CST
DTSTART:20251102T070000
END:STANDARD
BEGIN:DAYLIGHT
TZOFFSETFROM:-0600
TZOFFSETTO:-0500
TZNAME:CDT
DTSTART:20260308T080000
END:DAYLIGHT
BEGIN:STANDARD
TZOFFSETFROM:-0500
TZOFFSETTO:-0600
TZNAME:CST
DTSTART:20261101T070000
END:STANDARD
END:VTIMEZONE
BEGIN:VEVENT
DTSTART;TZID=America/Chicago:20250501T190000
DTEND;TZID=America/Chicago:20250501T213000
DTSTAMP:20260421T005017
CREATED:20250221T015839Z
LAST-MODIFIED:20250221T015839Z
UID:14248-1746126000-1746135000@bransonarts.org
SUMMARY:Rodgers & Hammerstein's Cinderella (Broadway Version)
DESCRIPTION:Lorie Best
URL:https://bransonarts.org/event/rodgers-hammersteins-cinderella-broadway-version/
ATTACH;FMTTYPE=image/jpeg:https://bransonarts.org/wp-content/uploads/2025/02/CINDERELLA-Logo-White-Background-scaled.jpg
END:VEVENT
BEGIN:VEVENT
DTSTART;TZID=America/Chicago:20250502T190000
DTEND;TZID=America/Chicago:20250502T213000
DTSTAMP:20260421T005017
CREATED:20250221T020102Z
LAST-MODIFIED:20250221T020102Z
UID:14252-1746212400-1746221400@bransonarts.org
SUMMARY:Rodgers & Hammerstein's Cinderella (Broadway Version)
DESCRIPTION:Lorie Best
URL:https://bransonarts.org/event/rodgers-hammersteins-cinderella-broadway-version-2/
ATTACH;FMTTYPE=image/jpeg:https://bransonarts.org/wp-content/uploads/2025/02/CINDERELLA-Logo-White-Background-scaled.jpg
END:VEVENT
BEGIN:VEVENT
DTSTART;TZID=America/Chicago:20250503T190000
DTEND;TZID=America/Chicago:20250503T213000
DTSTAMP:20260421T005017
CREATED:20250221T020203Z
LAST-MODIFIED:20250221T020203Z
UID:14255-1746298800-1746307800@bransonarts.org
SUMMARY:Rodgers & Hammerstein's Cinderella (Broadway Version)
DESCRIPTION:Lorie Best
URL:https://bransonarts.org/event/rodgers-hammersteins-cinderella-broadway-version-3/
ATTACH;FMTTYPE=image/jpeg:https://bransonarts.org/wp-content/uploads/2025/02/CINDERELLA-Logo-White-Background-scaled.jpg
END:VEVENT
BEGIN:VEVENT
DTSTART;TZID=America/Chicago:20250504T140000
DTEND;TZID=America/Chicago:20250504T163000
DTSTAMP:20260421T005017
CREATED:20250221T020315Z
LAST-MODIFIED:20250221T020315Z
UID:14258-1746367200-1746376200@bransonarts.org
SUMMARY:Rodgers & Hammerstein's Cinderella (Broadway Version)
DESCRIPTION:Lorie Best
URL:https://bransonarts.org/event/rodgers-hammersteins-cinderella-broadway-version-4/
ATTACH;FMTTYPE=image/jpeg:https://bransonarts.org/wp-content/uploads/2025/02/CINDERELLA-Logo-White-Background-scaled.jpg
END:VEVENT
BEGIN:VEVENT
DTSTART;TZID=America/Chicago:20250508T190000
DTEND;TZID=America/Chicago:20250508T213000
DTSTAMP:20260421T005017
CREATED:20250221T020527Z
LAST-MODIFIED:20250221T020527Z
UID:14261-1746730800-1746739800@bransonarts.org
SUMMARY:Rodgers & Hammerstein's Cinderella (Broadway Version)
DESCRIPTION:Lorie Best
URL:https://bransonarts.org/event/rodgers-hammersteins-cinderella-broadway-version-5/
ATTACH;FMTTYPE=image/jpeg:https://bransonarts.org/wp-content/uploads/2025/02/CINDERELLA-Logo-White-Background-scaled.jpg
END:VEVENT
BEGIN:VEVENT
DTSTART;TZID=America/Chicago:20250509T190000
DTEND;TZID=America/Chicago:20250509T213000
DTSTAMP:20260421T005017
CREATED:20250221T020629Z
LAST-MODIFIED:20250221T020629Z
UID:14264-1746817200-1746826200@bransonarts.org
SUMMARY:Rodgers & Hammerstein's Cinderella (Broadway Version)
DESCRIPTION:Lorie Best
URL:https://bransonarts.org/event/rodgers-hammersteins-cinderella-broadway-version-6/
ATTACH;FMTTYPE=image/jpeg:https://bransonarts.org/wp-content/uploads/2025/02/CINDERELLA-Logo-White-Background-scaled.jpg
END:VEVENT
BEGIN:VEVENT
DTSTART;TZID=America/Chicago:20250510T190000
DTEND;TZID=America/Chicago:20250510T213000
DTSTAMP:20260421T005017
CREATED:20250221T020840Z
LAST-MODIFIED:20250221T020840Z
UID:14267-1746903600-1746912600@bransonarts.org
SUMMARY:Rodgers & Hammerstein's Cinderella (Broadway Version)
DESCRIPTION:Lorie Best
URL:https://bransonarts.org/event/rodgers-hammersteins-cinderella-broadway-version-7/
ATTACH;FMTTYPE=image/jpeg:https://bransonarts.org/wp-content/uploads/2025/02/CINDERELLA-Logo-White-Background-scaled.jpg
END:VEVENT
BEGIN:VEVENT
DTSTART;TZID=America/Chicago:20250511T140000
DTEND;TZID=America/Chicago:20250511T163000
DTSTAMP:20260421T005017
CREATED:20250221T020953Z
LAST-MODIFIED:20250221T020953Z
UID:14270-1746972000-1746981000@bransonarts.org
SUMMARY:Rodgers & Hammerstein's Cinderella (Broadway Version)
DESCRIPTION:Lorie Best
URL:https://bransonarts.org/event/rodgers-hammersteins-cinderella-broadway-version-8/
ATTACH;FMTTYPE=image/jpeg:https://bransonarts.org/wp-content/uploads/2025/02/CINDERELLA-Logo-White-Background-scaled.jpg
END:VEVENT
END:VCALENDAR