BEGIN:VCALENDAR
VERSION:2.0
PRODID:-//Branson Regional Arts Council - ECPv6.15.20//NONSGML v1.0//EN
CALSCALE:GREGORIAN
METHOD:PUBLISH
X-WR-CALNAME:Branson Regional Arts Council
X-ORIGINAL-URL:https://bransonarts.org
X-WR-CALDESC:Events for Branson Regional Arts Council
REFRESH-INTERVAL;VALUE=DURATION:PT1H
X-Robots-Tag:noindex
X-PUBLISHED-TTL:PT1H
BEGIN:VTIMEZONE
TZID:America/Chicago
BEGIN:DAYLIGHT
TZOFFSETFROM:-0600
TZOFFSETTO:-0500
TZNAME:CDT
DTSTART:20240310T080000
END:DAYLIGHT
BEGIN:STANDARD
TZOFFSETFROM:-0500
TZOFFSETTO:-0600
TZNAME:CST
DTSTART:20241103T070000
END:STANDARD
BEGIN:DAYLIGHT
TZOFFSETFROM:-0600
TZOFFSETTO:-0500
TZNAME:CDT
DTSTART:20250309T080000
END:DAYLIGHT
BEGIN:STANDARD
TZOFFSETFROM:-0500
TZOFFSETTO:-0600
TZNAME:CST
DTSTART:20251102T070000
END:STANDARD
BEGIN:DAYLIGHT
TZOFFSETFROM:-0600
TZOFFSETTO:-0500
TZNAME:CDT
DTSTART:20260308T080000
END:DAYLIGHT
BEGIN:STANDARD
TZOFFSETFROM:-0500
TZOFFSETTO:-0600
TZNAME:CST
DTSTART:20261101T070000
END:STANDARD
END:VTIMEZONE
BEGIN:VEVENT
DTSTART;TZID=America/Chicago:20251213T190000
DTEND;TZID=America/Chicago:20251213T210000
DTSTAMP:20260420T172708
CREATED:20250221T203337Z
LAST-MODIFIED:20250221T203337Z
UID:14391-1765652400-1765659600@bransonarts.org
SUMMARY:Mary Poppins Jr.
DESCRIPTION:Lorie Best
URL:https://bransonarts.org/event/mary-poppins-jr-7/
ATTACH;FMTTYPE=image/png:https://bransonarts.org/wp-content/uploads/2025/02/MARYPOPPINSJR_LOGO_TITLE_4C.png
END:VEVENT
BEGIN:VEVENT
DTSTART;TZID=America/Chicago:20251212T190000
DTEND;TZID=America/Chicago:20251212T210000
DTSTAMP:20260420T172708
CREATED:20250221T203243Z
LAST-MODIFIED:20250221T203243Z
UID:14388-1765566000-1765573200@bransonarts.org
SUMMARY:Mary Poppins Jr.
DESCRIPTION:Lorie Best
URL:https://bransonarts.org/event/mary-poppins-jr-6/
ATTACH;FMTTYPE=image/png:https://bransonarts.org/wp-content/uploads/2025/02/MARYPOPPINSJR_LOGO_TITLE_4C.png
END:VEVENT
BEGIN:VEVENT
DTSTART;TZID=America/Chicago:20251211T190000
DTEND;TZID=America/Chicago:20251211T210000
DTSTAMP:20260420T172708
CREATED:20250221T203157Z
LAST-MODIFIED:20250221T203157Z
UID:14385-1765479600-1765486800@bransonarts.org
SUMMARY:Mary Poppins Jr.
DESCRIPTION:Lorie Best
URL:https://bransonarts.org/event/mary-poppins-jr-5/
ATTACH;FMTTYPE=image/png:https://bransonarts.org/wp-content/uploads/2025/02/MARYPOPPINSJR_LOGO_TITLE_4C.png
END:VEVENT
BEGIN:VEVENT
DTSTART;TZID=America/Chicago:20251207T140000
DTEND;TZID=America/Chicago:20251207T160000
DTSTAMP:20260420T172708
CREATED:20250221T203101Z
LAST-MODIFIED:20250221T203101Z
UID:14382-1765116000-1765123200@bransonarts.org
SUMMARY:Mary Poppins Jr.
DESCRIPTION:Lorie Best
URL:https://bransonarts.org/event/mary-poppins-jr-4/
ATTACH;FMTTYPE=image/png:https://bransonarts.org/wp-content/uploads/2025/02/MARYPOPPINSJR_LOGO_TITLE_4C.png
END:VEVENT
BEGIN:VEVENT
DTSTART;TZID=America/Chicago:20251206T190000
DTEND;TZID=America/Chicago:20251206T210000
DTSTAMP:20260420T172708
CREATED:20250221T203006Z
LAST-MODIFIED:20250221T203006Z
UID:14379-1765047600-1765054800@bransonarts.org
SUMMARY:Mary Poppins Jr.
DESCRIPTION:Lorie Best
URL:https://bransonarts.org/event/mary-poppins-jr-3/
ATTACH;FMTTYPE=image/png:https://bransonarts.org/wp-content/uploads/2025/02/MARYPOPPINSJR_LOGO_TITLE_4C.png
END:VEVENT
BEGIN:VEVENT
DTSTART;TZID=America/Chicago:20251205T190000
DTEND;TZID=America/Chicago:20251205T210000
DTSTAMP:20260420T172708
CREATED:20250221T202915Z
LAST-MODIFIED:20250221T202915Z
UID:14376-1764961200-1764968400@bransonarts.org
SUMMARY:Mary Poppins Jr.
DESCRIPTION:Lorie Best
URL:https://bransonarts.org/event/mary-poppins-jr-2/
ATTACH;FMTTYPE=image/png:https://bransonarts.org/wp-content/uploads/2025/02/MARYPOPPINSJR_LOGO_TITLE_4C.png
END:VEVENT
BEGIN:VEVENT
DTSTART;TZID=America/Chicago:20251204T190000
DTEND;TZID=America/Chicago:20251204T210000
DTSTAMP:20260420T172708
CREATED:20250221T202815Z
LAST-MODIFIED:20250221T202815Z
UID:14371-1764874800-1764882000@bransonarts.org
SUMMARY:Mary Poppins Jr.
DESCRIPTION:Lorie Best
URL:https://bransonarts.org/event/mary-poppins-jr/
ATTACH;FMTTYPE=image/png:https://bransonarts.org/wp-content/uploads/2025/02/MARYPOPPINSJR_LOGO_TITLE_4C.png
END:VEVENT
BEGIN:VEVENT
DTSTART;TZID=America/Chicago:20251026T140000
DTEND;TZID=America/Chicago:20251026T160000
DTSTAMP:20260420T172708
CREATED:20250221T192227Z
LAST-MODIFIED:20250221T192227Z
UID:14367-1761487200-1761494400@bransonarts.org
SUMMARY:Shrek The Musical
DESCRIPTION:Lorie Best
URL:https://bransonarts.org/event/shrek-the-musical-8/
ATTACH;FMTTYPE=image/png:https://bransonarts.org/wp-content/uploads/2025/02/SHREK_LOGO_FULL_TEXTURE_BG_4C.png
END:VEVENT
BEGIN:VEVENT
DTSTART;TZID=America/Chicago:20251025T190000
DTEND;TZID=America/Chicago:20251025T210000
DTSTAMP:20260420T172708
CREATED:20250221T192135Z
LAST-MODIFIED:20250221T192135Z
UID:14364-1761418800-1761426000@bransonarts.org
SUMMARY:Shrek The Musical
DESCRIPTION:Lorie Best
URL:https://bransonarts.org/event/shrek-the-musical-7/
ATTACH;FMTTYPE=image/png:https://bransonarts.org/wp-content/uploads/2025/02/SHREK_LOGO_FULL_TEXTURE_BG_4C.png
END:VEVENT
BEGIN:VEVENT
DTSTART;TZID=America/Chicago:20251024T190000
DTEND;TZID=America/Chicago:20251024T210000
DTSTAMP:20260420T172708
CREATED:20250221T192050Z
LAST-MODIFIED:20250221T192050Z
UID:14361-1761332400-1761339600@bransonarts.org
SUMMARY:Shrek The Musical
DESCRIPTION:Lorie Best
URL:https://bransonarts.org/event/shrek-the-musical-6/
ATTACH;FMTTYPE=image/png:https://bransonarts.org/wp-content/uploads/2025/02/SHREK_LOGO_FULL_TEXTURE_BG_4C.png
END:VEVENT
BEGIN:VEVENT
DTSTART;TZID=America/Chicago:20251023T190000
DTEND;TZID=America/Chicago:20251023T210000
DTSTAMP:20260420T172708
CREATED:20250221T192002Z
LAST-MODIFIED:20250221T192002Z
UID:14358-1761246000-1761253200@bransonarts.org
SUMMARY:Shrek The Musical
DESCRIPTION:Lorie Best
URL:https://bransonarts.org/event/shrek-the-musical-5/
ATTACH;FMTTYPE=image/png:https://bransonarts.org/wp-content/uploads/2025/02/SHREK_LOGO_FULL_TEXTURE_BG_4C.png
END:VEVENT
BEGIN:VEVENT
DTSTART;TZID=America/Chicago:20251019T140000
DTEND;TZID=America/Chicago:20251019T160000
DTSTAMP:20260420T172708
CREATED:20250221T190241Z
LAST-MODIFIED:20250221T190241Z
UID:14355-1760882400-1760889600@bransonarts.org
SUMMARY:Shrek The Musical
DESCRIPTION:Lorie Best
URL:https://bransonarts.org/event/shrek-the-musical-4/
ATTACH;FMTTYPE=image/png:https://bransonarts.org/wp-content/uploads/2025/02/SHREK_LOGO_FULL_TEXTURE_BG_4C.png
END:VEVENT
BEGIN:VEVENT
DTSTART;TZID=America/Chicago:20251018T190000
DTEND;TZID=America/Chicago:20251018T210000
DTSTAMP:20260420T172708
CREATED:20250221T190129Z
LAST-MODIFIED:20250221T190129Z
UID:14352-1760814000-1760821200@bransonarts.org
SUMMARY:Shrek The Musical
DESCRIPTION:Lorie Best
URL:https://bransonarts.org/event/shrek-the-musical-3/
ATTACH;FMTTYPE=image/png:https://bransonarts.org/wp-content/uploads/2025/02/SHREK_LOGO_FULL_TEXTURE_BG_4C.png
END:VEVENT
BEGIN:VEVENT
DTSTART;TZID=America/Chicago:20251017T190000
DTEND;TZID=America/Chicago:20251017T210000
DTSTAMP:20260420T172708
CREATED:20250221T185642Z
LAST-MODIFIED:20250221T185642Z
UID:14349-1760727600-1760734800@bransonarts.org
SUMMARY:Shrek The Musical
DESCRIPTION:Lorie Best
URL:https://bransonarts.org/event/shrek-the-musical-2/
ATTACH;FMTTYPE=image/png:https://bransonarts.org/wp-content/uploads/2025/02/SHREK_LOGO_FULL_TEXTURE_BG_4C.png
END:VEVENT
BEGIN:VEVENT
DTSTART;TZID=America/Chicago:20251016T190000
DTEND;TZID=America/Chicago:20251016T210000
DTSTAMP:20260420T172708
CREATED:20250221T185215Z
LAST-MODIFIED:20250221T185215Z
UID:14345-1760641200-1760648400@bransonarts.org
SUMMARY:Shrek The Musical
DESCRIPTION:Lorie Best
URL:https://bransonarts.org/event/shrek-the-musical/
ATTACH;FMTTYPE=image/png:https://bransonarts.org/wp-content/uploads/2025/02/SHREK_LOGO_FULL_TEXTURE_BG_4C.png
END:VEVENT
BEGIN:VEVENT
DTSTART;TZID=America/Chicago:20250921T180000
DTEND;TZID=America/Chicago:20250921T200000
DTSTAMP:20260420T172708
CREATED:20250917T150805Z
LAST-MODIFIED:20250917T150805Z
UID:14817-1758477600-1758484800@bransonarts.org
SUMMARY:Artist Reception/Annual Member Meeting
DESCRIPTION:Lorie Best
URL:https://bransonarts.org/event/artist-reception-annual-member-meeting/
LOCATION:Branson Convention Center
ATTACH;FMTTYPE=image/jpeg:https://bransonarts.org/wp-content/uploads/2025/09/flyer2.jpg
END:VEVENT
BEGIN:VEVENT
DTSTART;TZID=America/Chicago:20250810T140000
DTEND;TZID=America/Chicago:20250810T160000
DTSTAMP:20260420T172708
CREATED:20250221T175943Z
LAST-MODIFIED:20250221T175943Z
UID:14341-1754834400-1754841600@bransonarts.org
SUMMARY:Footloose the Musical
DESCRIPTION:Lorie Best
URL:https://bransonarts.org/event/footloose-the-musical-8/
ATTACH;FMTTYPE=image/jpeg:https://bransonarts.org/wp-content/uploads/2025/02/Footloose-logo.jpg
END:VEVENT
BEGIN:VEVENT
DTSTART;TZID=America/Chicago:20250809T190000
DTEND;TZID=America/Chicago:20250809T210000
DTSTAMP:20260420T172708
CREATED:20250221T175837Z
LAST-MODIFIED:20250221T175837Z
UID:14338-1754766000-1754773200@bransonarts.org
SUMMARY:Footloose the Musical
DESCRIPTION:Lorie Best
URL:https://bransonarts.org/event/footloose-the-musical-7/
ATTACH;FMTTYPE=image/jpeg:https://bransonarts.org/wp-content/uploads/2025/02/Footloose-logo.jpg
END:VEVENT
BEGIN:VEVENT
DTSTART;TZID=America/Chicago:20250808T190000
DTEND;TZID=America/Chicago:20250808T210000
DTSTAMP:20260420T172708
CREATED:20250221T175746Z
LAST-MODIFIED:20250221T175746Z
UID:14335-1754679600-1754686800@bransonarts.org
SUMMARY:Footloose the Musical
DESCRIPTION:Lorie Best
URL:https://bransonarts.org/event/footloose-the-musical-6/
ATTACH;FMTTYPE=image/jpeg:https://bransonarts.org/wp-content/uploads/2025/02/Footloose-logo.jpg
END:VEVENT
BEGIN:VEVENT
DTSTART;TZID=America/Chicago:20250807T190000
DTEND;TZID=America/Chicago:20250807T210000
DTSTAMP:20260420T172708
CREATED:20250221T175656Z
LAST-MODIFIED:20250221T175656Z
UID:14332-1754593200-1754600400@bransonarts.org
SUMMARY:Footloose the Musical
DESCRIPTION:Lorie Best
URL:https://bransonarts.org/event/footloose-the-musical-5/
ATTACH;FMTTYPE=image/jpeg:https://bransonarts.org/wp-content/uploads/2025/02/Footloose-logo.jpg
END:VEVENT
BEGIN:VEVENT
DTSTART;TZID=America/Chicago:20250803T140000
DTEND;TZID=America/Chicago:20250803T160000
DTSTAMP:20260420T172708
CREATED:20250221T175550Z
LAST-MODIFIED:20250221T175550Z
UID:14329-1754229600-1754236800@bransonarts.org
SUMMARY:Footloose the Musical
DESCRIPTION:Lorie Best
URL:https://bransonarts.org/event/footloose-the-musical-4/
ATTACH;FMTTYPE=image/jpeg:https://bransonarts.org/wp-content/uploads/2025/02/Footloose-logo.jpg
END:VEVENT
BEGIN:VEVENT
DTSTART;TZID=America/Chicago:20250802T190000
DTEND;TZID=America/Chicago:20250802T210000
DTSTAMP:20260420T172708
CREATED:20250221T175443Z
LAST-MODIFIED:20250221T175443Z
UID:14326-1754161200-1754168400@bransonarts.org
SUMMARY:Footloose the Musical
DESCRIPTION:Lorie Best
URL:https://bransonarts.org/event/footloose-the-musical-3/
ATTACH;FMTTYPE=image/jpeg:https://bransonarts.org/wp-content/uploads/2025/02/Footloose-logo.jpg
END:VEVENT
BEGIN:VEVENT
DTSTART;TZID=America/Chicago:20250801T190000
DTEND;TZID=America/Chicago:20250801T210000
DTSTAMP:20260420T172708
CREATED:20250221T175350Z
LAST-MODIFIED:20250221T175350Z
UID:14323-1754074800-1754082000@bransonarts.org
SUMMARY:Footloose the Musical
DESCRIPTION:Lorie Best
URL:https://bransonarts.org/event/footloose-the-musical-2/
ATTACH;FMTTYPE=image/jpeg:https://bransonarts.org/wp-content/uploads/2025/02/Footloose-logo.jpg
END:VEVENT
BEGIN:VEVENT
DTSTART;TZID=America/Chicago:20250731T190000
DTEND;TZID=America/Chicago:20250731T210000
DTSTAMP:20260420T172708
CREATED:20250221T175214Z
LAST-MODIFIED:20250221T175214Z
UID:14319-1753988400-1753995600@bransonarts.org
SUMMARY:Footloose the Musical
DESCRIPTION:Lorie Best
URL:https://bransonarts.org/event/footloose-the-musical/
ATTACH;FMTTYPE=image/jpeg:https://bransonarts.org/wp-content/uploads/2025/02/Footloose-logo.jpg
END:VEVENT
BEGIN:VEVENT
DTSTART;TZID=America/Chicago:20250720T140000
DTEND;TZID=America/Chicago:20250720T153000
DTSTAMP:20260420T172708
CREATED:20250705T181500Z
LAST-MODIFIED:20250705T181500Z
UID:14630-1753020000-1753025400@bransonarts.org
SUMMARY:Junie B. Jones The Musical
DESCRIPTION:Lorie Best
URL:https://bransonarts.org/event/junie-b-jones-the-musical-4/
ATTACH;FMTTYPE=image/jpeg:https://bransonarts.org/wp-content/uploads/2025/07/Junie-B-Smaller-Size-Logo-3.jpeg
END:VEVENT
BEGIN:VEVENT
DTSTART;TZID=America/Chicago:20250719T190000
DTEND;TZID=America/Chicago:20250719T203000
DTSTAMP:20260420T172708
CREATED:20250705T181258Z
LAST-MODIFIED:20250705T181258Z
UID:14626-1752951600-1752957000@bransonarts.org
SUMMARY:Junie B. Jones The Musical
DESCRIPTION:Lorie Best
URL:https://bransonarts.org/event/junie-b-jones-the-musical-3/
ATTACH;FMTTYPE=image/jpeg:https://bransonarts.org/wp-content/uploads/2025/07/Junie-B-Smaller-Size-Logo-2.jpeg
END:VEVENT
BEGIN:VEVENT
DTSTART;TZID=America/Chicago:20250719T140000
DTEND;TZID=America/Chicago:20250719T153000
DTSTAMP:20260420T172708
CREATED:20250705T180942Z
LAST-MODIFIED:20250705T180942Z
UID:14622-1752933600-1752939000@bransonarts.org
SUMMARY:Junie B. Jones The Musical
DESCRIPTION:Lorie Best
URL:https://bransonarts.org/event/junie-b-jones-the-musical-2/
ATTACH;FMTTYPE=image/jpeg:https://bransonarts.org/wp-content/uploads/2025/07/Junie-B-Smaller-Size-Logo-1.jpeg
END:VEVENT
BEGIN:VEVENT
DTSTART;TZID=America/Chicago:20250718T190000
DTEND;TZID=America/Chicago:20250718T203000
DTSTAMP:20260420T172708
CREATED:20250705T180658Z
LAST-MODIFIED:20250705T180752Z
UID:14618-1752865200-1752870600@bransonarts.org
SUMMARY:Junie B. Jones The Musical
DESCRIPTION:Lorie Best
URL:https://bransonarts.org/event/junie-b-jones-the-musical/
ATTACH;FMTTYPE=image/jpeg:https://bransonarts.org/wp-content/uploads/2025/07/Junie-B-Smaller-Size-Logo.jpeg
END:VEVENT
BEGIN:VEVENT
DTSTART;TZID=America/Chicago:20250629T190000
DTEND;TZID=America/Chicago:20250629T203000
DTSTAMP:20260420T172708
CREATED:20250221T174526Z
LAST-MODIFIED:20250616T165819Z
UID:14316-1751223600-1751229000@bransonarts.org
SUMMARY:Wizard of Oz Youth Edition Ages 13-18 Cast
DESCRIPTION:Lorie Best
URL:https://bransonarts.org/event/wizard-of-oz-youth-edition-4/
ATTACH;FMTTYPE=image/jpeg:https://bransonarts.org/wp-content/uploads/2025/02/Wizard-of-Oz-Logo-1.jpg
END:VEVENT
BEGIN:VEVENT
DTSTART;TZID=America/Chicago:20250629T140000
DTEND;TZID=America/Chicago:20250629T153000
DTSTAMP:20260420T172708
CREATED:20250616T170117Z
LAST-MODIFIED:20250616T174104Z
UID:14556-1751205600-1751211000@bransonarts.org
SUMMARY:Wizard of OZ Youth Edition Ages 6-12
DESCRIPTION:Lorie Best
URL:https://bransonarts.org/event/wizard-of-oz-youth-edition-ages-6-12/
ATTACH;FMTTYPE=image/jpeg:https://bransonarts.org/wp-content/uploads/2025/06/Wizard-of-Oz-Logo-2.jpg
END:VEVENT
END:VCALENDAR