BEGIN:VCALENDAR
VERSION:2.0
PRODID:-//Branson Regional Arts Council - ECPv6.15.20//NONSGML v1.0//EN
CALSCALE:GREGORIAN
METHOD:PUBLISH
X-WR-CALNAME:Branson Regional Arts Council
X-ORIGINAL-URL:https://bransonarts.org
X-WR-CALDESC:Events for Branson Regional Arts Council
REFRESH-INTERVAL;VALUE=DURATION:PT1H
X-Robots-Tag:noindex
X-PUBLISHED-TTL:PT1H
BEGIN:VTIMEZONE
TZID:America/Chicago
BEGIN:DAYLIGHT
TZOFFSETFROM:-0600
TZOFFSETTO:-0500
TZNAME:CDT
DTSTART:20240310T080000
END:DAYLIGHT
BEGIN:STANDARD
TZOFFSETFROM:-0500
TZOFFSETTO:-0600
TZNAME:CST
DTSTART:20241103T070000
END:STANDARD
BEGIN:DAYLIGHT
TZOFFSETFROM:-0600
TZOFFSETTO:-0500
TZNAME:CDT
DTSTART:20250309T080000
END:DAYLIGHT
BEGIN:STANDARD
TZOFFSETFROM:-0500
TZOFFSETTO:-0600
TZNAME:CST
DTSTART:20251102T070000
END:STANDARD
BEGIN:DAYLIGHT
TZOFFSETFROM:-0600
TZOFFSETTO:-0500
TZNAME:CDT
DTSTART:20260308T080000
END:DAYLIGHT
BEGIN:STANDARD
TZOFFSETFROM:-0500
TZOFFSETTO:-0600
TZNAME:CST
DTSTART:20261101T070000
END:STANDARD
END:VTIMEZONE
BEGIN:VEVENT
DTSTART;TZID=America/Chicago:20250322T190000
DTEND;TZID=America/Chicago:20250322T213000
DTSTAMP:20260421T092007
CREATED:20250221T015247Z
LAST-MODIFIED:20250221T015247Z
UID:14240-1742670000-1742679000@bransonarts.org
SUMMARY:Arsenic and Old Lace
DESCRIPTION:Lorie Best
URL:https://bransonarts.org/event/arsenic-and-old-lace-2/
ATTACH;FMTTYPE=image/jpeg:https://bransonarts.org/wp-content/uploads/2025/02/Red-and-White-Logo-3-scaled.jpg
END:VEVENT
BEGIN:VEVENT
DTSTART;TZID=America/Chicago:20250321T190000
DTEND;TZID=America/Chicago:20250321T213000
DTSTAMP:20260421T092007
CREATED:20250221T015022Z
LAST-MODIFIED:20250221T015022Z
UID:14236-1742583600-1742592600@bransonarts.org
SUMMARY:Arsenic and Old Lace
DESCRIPTION:Lorie Best
URL:https://bransonarts.org/event/arsenic-and-old-lace/
ATTACH;FMTTYPE=image/jpeg:https://bransonarts.org/wp-content/uploads/2025/02/Red-and-White-Logo-2-scaled.jpg
END:VEVENT
BEGIN:VEVENT
DTSTART;TZID=America/Chicago:20250223T140000
DTEND;TZID=America/Chicago:20250223T163000
DTSTAMP:20260421T092007
CREATED:20250221T014522Z
LAST-MODIFIED:20250221T014522Z
UID:14232-1740319200-1740328200@bransonarts.org
SUMMARY:Roald Dahl's Matilda The Musical
DESCRIPTION:Lorie Best
URL:https://bransonarts.org/event/roald-dahls-matilda-the-musical-4/
ATTACH;FMTTYPE=image/jpeg:https://bransonarts.org/wp-content/uploads/2025/02/Vortex-4.jpg
END:VEVENT
BEGIN:VEVENT
DTSTART;TZID=America/Chicago:20250222T190000
DTEND;TZID=America/Chicago:20250222T213000
DTSTAMP:20260421T092007
CREATED:20250221T014342Z
LAST-MODIFIED:20250221T014342Z
UID:14228-1740250800-1740259800@bransonarts.org
SUMMARY:Roald Dahl's Matilda The Musical
DESCRIPTION:Lorie Best
URL:https://bransonarts.org/event/roald-dahls-matilda-the-musical-3/
ATTACH;FMTTYPE=image/jpeg:https://bransonarts.org/wp-content/uploads/2025/02/Vortex-3.jpg
END:VEVENT
BEGIN:VEVENT
DTSTART;TZID=America/Chicago:20250222T130000
DTEND;TZID=America/Chicago:20250222T150000
DTSTAMP:20260421T092007
CREATED:20250221T012550Z
LAST-MODIFIED:20250221T190001Z
UID:14224-1740229200-1740236400@bransonarts.org
SUMMARY:Roald Dahl's Matilda The Musical
DESCRIPTION:Lorie Best
URL:https://bransonarts.org/event/roald-dahls-matilda-the-musical-2/
ATTACH;FMTTYPE=image/jpeg:https://bransonarts.org/wp-content/uploads/2025/02/Vortex-2.jpg
END:VEVENT
BEGIN:VEVENT
DTSTART;TZID=America/Chicago:20250221T190000
DTEND;TZID=America/Chicago:20250221T213000
DTSTAMP:20260421T092007
CREATED:20250221T012307Z
LAST-MODIFIED:20250221T012347Z
UID:14219-1740164400-1740173400@bransonarts.org
SUMMARY:Roald Dahl's Matilda The Musical
DESCRIPTION:Lorie Best
URL:https://bransonarts.org/event/roald-dahls-matilda-the-musical/
ATTACH;FMTTYPE=image/jpeg:https://bransonarts.org/wp-content/uploads/2025/02/Vortex-1.jpg
END:VEVENT
END:VCALENDAR