BEGIN:VCALENDAR
VERSION:2.0
PRODID:-//Branson Regional Arts Council - ECPv6.15.20//NONSGML v1.0//EN
CALSCALE:GREGORIAN
METHOD:PUBLISH
X-WR-CALNAME:Branson Regional Arts Council
X-ORIGINAL-URL:https://bransonarts.org
X-WR-CALDESC:Events for Branson Regional Arts Council
REFRESH-INTERVAL;VALUE=DURATION:PT1H
X-Robots-Tag:noindex
X-PUBLISHED-TTL:PT1H
BEGIN:VTIMEZONE
TZID:America/Chicago
BEGIN:DAYLIGHT
TZOFFSETFROM:-0600
TZOFFSETTO:-0500
TZNAME:CDT
DTSTART:20250309T080000
END:DAYLIGHT
BEGIN:STANDARD
TZOFFSETFROM:-0500
TZOFFSETTO:-0600
TZNAME:CST
DTSTART:20251102T070000
END:STANDARD
BEGIN:DAYLIGHT
TZOFFSETFROM:-0600
TZOFFSETTO:-0500
TZNAME:CDT
DTSTART:20260308T080000
END:DAYLIGHT
BEGIN:STANDARD
TZOFFSETFROM:-0500
TZOFFSETTO:-0600
TZNAME:CST
DTSTART:20261101T070000
END:STANDARD
BEGIN:DAYLIGHT
TZOFFSETFROM:-0600
TZOFFSETTO:-0500
TZNAME:CDT
DTSTART:20270314T080000
END:DAYLIGHT
BEGIN:STANDARD
TZOFFSETFROM:-0500
TZOFFSETTO:-0600
TZNAME:CST
DTSTART:20271107T070000
END:STANDARD
END:VTIMEZONE
BEGIN:VEVENT
DTSTART;TZID=America/Chicago:20260503T140000
DTEND;TZID=America/Chicago:20260503T160000
DTSTAMP:20260422T174305
CREATED:20260205T023005Z
LAST-MODIFIED:20260205T023005Z
UID:15248-1777816800-1777824000@bransonarts.org
SUMMARY:Diary of a Wimpy Kid
DESCRIPTION:Branson Regional Arts CouncilThe Branson Regional Arts Council was founded in 1965 as the “Taney Arts Council\,” and officially established 501 (c)(3) non-profit status as “Branson Arts Council\, Inc.” in 1993. \nOur mission is “to create exceptional artistic\, cultural and educational opportunities for our community.” \nFinancial support  is provided by BRAC members\, theatre patrons\, private donors\, as well as additional grant support from  the Missouri Arts Council and other organizations. \nBRAC\, PO Box 2004\, Branson\, MO 65615
URL:https://bransonarts.org/event/tickets-2-2-2-2-2-3/
END:VEVENT
BEGIN:VEVENT
DTSTART;TZID=America/Chicago:20260507T190000
DTEND;TZID=America/Chicago:20260507T210000
DTSTAMP:20260422T174305
CREATED:20260205T022849Z
LAST-MODIFIED:20260205T022849Z
UID:15234-1778180400-1778187600@bransonarts.org
SUMMARY:Diary of a Wimpy Kid
DESCRIPTION:Branson Regional Arts CouncilThe Branson Regional Arts Council was founded in 1965 as the “Taney Arts Council\,” and officially established 501 (c)(3) non-profit status as “Branson Arts Council\, Inc.” in 1993. \nOur mission is “to create exceptional artistic\, cultural and educational opportunities for our community.” \nFinancial support  is provided by BRAC members\, theatre patrons\, private donors\, as well as additional grant support from  the Missouri Arts Council and other organizations. \nBRAC\, PO Box 2004\, Branson\, MO 65615
URL:https://bransonarts.org/event/tickets-2-2-2-6-8/
ATTACH;FMTTYPE=image/webp:https://bransonarts.org/wp-content/uploads/2026/02/diary.webp
END:VEVENT
BEGIN:VEVENT
DTSTART;TZID=America/Chicago:20260508T190000
DTEND;TZID=America/Chicago:20260508T210000
DTSTAMP:20260422T174305
CREATED:20260205T022908Z
LAST-MODIFIED:20260205T022908Z
UID:15235-1778266800-1778274000@bransonarts.org
SUMMARY:Diary of a Wimpy Kid
DESCRIPTION:Branson Regional Arts CouncilThe Branson Regional Arts Council was founded in 1965 as the “Taney Arts Council\,” and officially established 501 (c)(3) non-profit status as “Branson Arts Council\, Inc.” in 1993. \nOur mission is “to create exceptional artistic\, cultural and educational opportunities for our community.” \nFinancial support  is provided by BRAC members\, theatre patrons\, private donors\, as well as additional grant support from  the Missouri Arts Council and other organizations. \nBRAC\, PO Box 2004\, Branson\, MO 65615
URL:https://bransonarts.org/event/tickets-2-2-2-6-9/
ATTACH;FMTTYPE=image/webp:https://bransonarts.org/wp-content/uploads/2026/02/diary.webp
END:VEVENT
BEGIN:VEVENT
DTSTART;TZID=America/Chicago:20260509T190000
DTEND;TZID=America/Chicago:20260509T210000
DTSTAMP:20260422T174305
CREATED:20260205T022926Z
LAST-MODIFIED:20260205T022926Z
UID:15236-1778353200-1778360400@bransonarts.org
SUMMARY:Diary of a Wimpy Kid
DESCRIPTION:Branson Regional Arts CouncilThe Branson Regional Arts Council was founded in 1965 as the “Taney Arts Council\,” and officially established 501 (c)(3) non-profit status as “Branson Arts Council\, Inc.” in 1993. \nOur mission is “to create exceptional artistic\, cultural and educational opportunities for our community.” \nFinancial support  is provided by BRAC members\, theatre patrons\, private donors\, as well as additional grant support from  the Missouri Arts Council and other organizations. \nBRAC\, PO Box 2004\, Branson\, MO 65615
URL:https://bransonarts.org/event/tickets-2-2-2-6-10/
ATTACH;FMTTYPE=image/webp:https://bransonarts.org/wp-content/uploads/2026/02/diary.webp
END:VEVENT
BEGIN:VEVENT
DTSTART;TZID=America/Chicago:20260510T140000
DTEND;TZID=America/Chicago:20260510T160000
DTSTAMP:20260422T174305
CREATED:20260205T023025Z
LAST-MODIFIED:20260205T023025Z
UID:15250-1778421600-1778428800@bransonarts.org
SUMMARY:Diary of a Wimpy Kid
DESCRIPTION:Branson Regional Arts CouncilThe Branson Regional Arts Council was founded in 1965 as the “Taney Arts Council\,” and officially established 501 (c)(3) non-profit status as “Branson Arts Council\, Inc.” in 1993. \nOur mission is “to create exceptional artistic\, cultural and educational opportunities for our community.” \nFinancial support  is provided by BRAC members\, theatre patrons\, private donors\, as well as additional grant support from  the Missouri Arts Council and other organizations. \nBRAC\, PO Box 2004\, Branson\, MO 65615
URL:https://bransonarts.org/event/tickets-2-2-2-2-2-4/
ATTACH;FMTTYPE=image/webp:https://bransonarts.org/wp-content/uploads/2026/02/diary.webp
END:VEVENT
BEGIN:VEVENT
DTSTART;TZID=America/Chicago:20260730T190000
DTEND;TZID=America/Chicago:20260730T210000
DTSTAMP:20260422T174305
CREATED:20260205T023601Z
LAST-MODIFIED:20260205T023601Z
UID:15257-1785438000-1785445200@bransonarts.org
SUMMARY:Grease
DESCRIPTION:Branson Regional Arts CouncilThe Branson Regional Arts Council was founded in 1965 as the “Taney Arts Council\,” and officially established 501 (c)(3) non-profit status as “Branson Arts Council\, Inc.” in 1993. \nOur mission is “to create exceptional artistic\, cultural and educational opportunities for our community.” \nFinancial support  is provided by BRAC members\, theatre patrons\, private donors\, as well as additional grant support from  the Missouri Arts Council and other organizations. \nBRAC\, PO Box 2004\, Branson\, MO 65615
URL:https://bransonarts.org/event/tickets-2-2-2-6-5-2/
ATTACH;FMTTYPE=image/webp:https://bransonarts.org/wp-content/uploads/2026/02/Grease-e1770258938204.webp
END:VEVENT
BEGIN:VEVENT
DTSTART;TZID=America/Chicago:20260731T190000
DTEND;TZID=America/Chicago:20260731T210000
DTSTAMP:20260422T174305
CREATED:20260205T023631Z
LAST-MODIFIED:20260205T023631Z
UID:15258-1785524400-1785531600@bransonarts.org
SUMMARY:Grease
DESCRIPTION:Branson Regional Arts CouncilThe Branson Regional Arts Council was founded in 1965 as the “Taney Arts Council\,” and officially established 501 (c)(3) non-profit status as “Branson Arts Council\, Inc.” in 1993. \nOur mission is “to create exceptional artistic\, cultural and educational opportunities for our community.” \nFinancial support  is provided by BRAC members\, theatre patrons\, private donors\, as well as additional grant support from  the Missouri Arts Council and other organizations. \nBRAC\, PO Box 2004\, Branson\, MO 65615
URL:https://bransonarts.org/event/tickets-2-2-2-6-5-3/
ATTACH;FMTTYPE=image/webp:https://bransonarts.org/wp-content/uploads/2026/02/Grease-e1770258938204.webp
END:VEVENT
BEGIN:VEVENT
DTSTART;TZID=America/Chicago:20260801T190000
DTEND;TZID=America/Chicago:20260801T210000
DTSTAMP:20260422T174305
CREATED:20260205T023658Z
LAST-MODIFIED:20260205T023658Z
UID:15259-1785610800-1785618000@bransonarts.org
SUMMARY:Grease
DESCRIPTION:Branson Regional Arts CouncilThe Branson Regional Arts Council was founded in 1965 as the “Taney Arts Council\,” and officially established 501 (c)(3) non-profit status as “Branson Arts Council\, Inc.” in 1993. \nOur mission is “to create exceptional artistic\, cultural and educational opportunities for our community.” \nFinancial support  is provided by BRAC members\, theatre patrons\, private donors\, as well as additional grant support from  the Missouri Arts Council and other organizations. \nBRAC\, PO Box 2004\, Branson\, MO 65615
URL:https://bransonarts.org/event/tickets-2-2-2-6-5-4/
ATTACH;FMTTYPE=image/webp:https://bransonarts.org/wp-content/uploads/2026/02/Grease-e1770258938204.webp
END:VEVENT
BEGIN:VEVENT
DTSTART;TZID=America/Chicago:20260802T140000
DTEND;TZID=America/Chicago:20260802T160000
DTSTAMP:20260422T174305
CREATED:20260205T023846Z
LAST-MODIFIED:20260205T023846Z
UID:15275-1785679200-1785686400@bransonarts.org
SUMMARY:Grease
DESCRIPTION:Branson Regional Arts CouncilThe Branson Regional Arts Council was founded in 1965 as the “Taney Arts Council\,” and officially established 501 (c)(3) non-profit status as “Branson Arts Council\, Inc.” in 1993. \nOur mission is “to create exceptional artistic\, cultural and educational opportunities for our community.” \nFinancial support  is provided by BRAC members\, theatre patrons\, private donors\, as well as additional grant support from  the Missouri Arts Council and other organizations. \nBRAC\, PO Box 2004\, Branson\, MO 65615
URL:https://bransonarts.org/event/tickets-2-2-2-2-2-3-2/
ATTACH;FMTTYPE=image/webp:https://bransonarts.org/wp-content/uploads/2026/02/Grease-e1770258938204.webp
END:VEVENT
BEGIN:VEVENT
DTSTART;TZID=America/Chicago:20260806T190000
DTEND;TZID=America/Chicago:20260806T210000
DTSTAMP:20260422T174305
CREATED:20260205T023722Z
LAST-MODIFIED:20260205T023722Z
UID:15260-1786042800-1786050000@bransonarts.org
SUMMARY:Grease
DESCRIPTION:Branson Regional Arts CouncilThe Branson Regional Arts Council was founded in 1965 as the “Taney Arts Council\,” and officially established 501 (c)(3) non-profit status as “Branson Arts Council\, Inc.” in 1993. \nOur mission is “to create exceptional artistic\, cultural and educational opportunities for our community.” \nFinancial support  is provided by BRAC members\, theatre patrons\, private donors\, as well as additional grant support from  the Missouri Arts Council and other organizations. \nBRAC\, PO Box 2004\, Branson\, MO 65615
URL:https://bransonarts.org/event/tickets-2-2-2-6-5-5/
ATTACH;FMTTYPE=image/webp:https://bransonarts.org/wp-content/uploads/2026/02/Grease-e1770258938204.webp
END:VEVENT
BEGIN:VEVENT
DTSTART;TZID=America/Chicago:20260807T190000
DTEND;TZID=America/Chicago:20260807T210000
DTSTAMP:20260422T174305
CREATED:20260205T023744Z
LAST-MODIFIED:20260205T023744Z
UID:15261-1786129200-1786136400@bransonarts.org
SUMMARY:Grease
DESCRIPTION:Branson Regional Arts CouncilThe Branson Regional Arts Council was founded in 1965 as the “Taney Arts Council\,” and officially established 501 (c)(3) non-profit status as “Branson Arts Council\, Inc.” in 1993. \nOur mission is “to create exceptional artistic\, cultural and educational opportunities for our community.” \nFinancial support  is provided by BRAC members\, theatre patrons\, private donors\, as well as additional grant support from  the Missouri Arts Council and other organizations. \nBRAC\, PO Box 2004\, Branson\, MO 65615
URL:https://bransonarts.org/event/tickets-2-2-2-6-5-6/
ATTACH;FMTTYPE=image/webp:https://bransonarts.org/wp-content/uploads/2026/02/Grease-e1770258938204.webp
END:VEVENT
BEGIN:VEVENT
DTSTART;TZID=America/Chicago:20260808T190000
DTEND;TZID=America/Chicago:20260808T210000
DTSTAMP:20260422T174305
CREATED:20260205T023805Z
LAST-MODIFIED:20260205T023805Z
UID:15262-1786215600-1786222800@bransonarts.org
SUMMARY:Grease
DESCRIPTION:Branson Regional Arts CouncilThe Branson Regional Arts Council was founded in 1965 as the “Taney Arts Council\,” and officially established 501 (c)(3) non-profit status as “Branson Arts Council\, Inc.” in 1993. \nOur mission is “to create exceptional artistic\, cultural and educational opportunities for our community.” \nFinancial support  is provided by BRAC members\, theatre patrons\, private donors\, as well as additional grant support from  the Missouri Arts Council and other organizations. \nBRAC\, PO Box 2004\, Branson\, MO 65615
URL:https://bransonarts.org/event/tickets-2-2-2-6-5-7/
END:VEVENT
BEGIN:VEVENT
DTSTART;TZID=America/Chicago:20260809T140000
DTEND;TZID=America/Chicago:20260809T160000
DTSTAMP:20260422T174305
CREATED:20260205T023910Z
LAST-MODIFIED:20260205T023910Z
UID:15276-1786284000-1786291200@bransonarts.org
SUMMARY:Grease
DESCRIPTION:Branson Regional Arts CouncilThe Branson Regional Arts Council was founded in 1965 as the “Taney Arts Council\,” and officially established 501 (c)(3) non-profit status as “Branson Arts Council\, Inc.” in 1993. \nOur mission is “to create exceptional artistic\, cultural and educational opportunities for our community.” \nFinancial support  is provided by BRAC members\, theatre patrons\, private donors\, as well as additional grant support from  the Missouri Arts Council and other organizations. \nBRAC\, PO Box 2004\, Branson\, MO 65615
URL:https://bransonarts.org/event/tickets-2-2-2-2-2-3-3/
ATTACH;FMTTYPE=image/webp:https://bransonarts.org/wp-content/uploads/2026/02/Grease-e1770258938204.webp
END:VEVENT
BEGIN:VEVENT
DTSTART;TZID=America/Chicago:20261001T190000
DTEND;TZID=America/Chicago:20261001T210000
DTSTAMP:20260422T174305
CREATED:20260205T024351Z
LAST-MODIFIED:20260205T024351Z
UID:15284-1790881200-1790888400@bransonarts.org
SUMMARY:Charlie and the Chocolate Factory
DESCRIPTION:Branson Regional Arts CouncilThe Branson Regional Arts Council was founded in 1965 as the “Taney Arts Council\,” and officially established 501 (c)(3) non-profit status as “Branson Arts Council\, Inc.” in 1993. \nOur mission is “to create exceptional artistic\, cultural and educational opportunities for our community.” \nFinancial support  is provided by BRAC members\, theatre patrons\, private donors\, as well as additional grant support from  the Missouri Arts Council and other organizations. \nBRAC\, PO Box 2004\, Branson\, MO 65615
URL:https://bransonarts.org/event/tickets-2-2-2-6-5-2-2/
ATTACH;FMTTYPE=image/webp:https://bransonarts.org/wp-content/uploads/2026/02/charlie.webp
END:VEVENT
BEGIN:VEVENT
DTSTART;TZID=America/Chicago:20261002T190000
DTEND;TZID=America/Chicago:20261002T210000
DTSTAMP:20260422T174305
CREATED:20260205T024410Z
LAST-MODIFIED:20260205T024410Z
UID:15285-1790967600-1790974800@bransonarts.org
SUMMARY:Charlie and the Chocolate Factory
DESCRIPTION:Branson Regional Arts CouncilThe Branson Regional Arts Council was founded in 1965 as the “Taney Arts Council\,” and officially established 501 (c)(3) non-profit status as “Branson Arts Council\, Inc.” in 1993. \nOur mission is “to create exceptional artistic\, cultural and educational opportunities for our community.” \nFinancial support  is provided by BRAC members\, theatre patrons\, private donors\, as well as additional grant support from  the Missouri Arts Council and other organizations. \nBRAC\, PO Box 2004\, Branson\, MO 65615
URL:https://bransonarts.org/event/tickets-2-2-2-6-5-2-3/
ATTACH;FMTTYPE=image/webp:https://bransonarts.org/wp-content/uploads/2026/02/charlie.webp
END:VEVENT
BEGIN:VEVENT
DTSTART;TZID=America/Chicago:20261003T190000
DTEND;TZID=America/Chicago:20261003T210000
DTSTAMP:20260422T174305
CREATED:20260205T024433Z
LAST-MODIFIED:20260205T024433Z
UID:15286-1791054000-1791061200@bransonarts.org
SUMMARY:Charlie and the Chocolate Factory
DESCRIPTION:Branson Regional Arts CouncilThe Branson Regional Arts Council was founded in 1965 as the “Taney Arts Council\,” and officially established 501 (c)(3) non-profit status as “Branson Arts Council\, Inc.” in 1993. \nOur mission is “to create exceptional artistic\, cultural and educational opportunities for our community.” \nFinancial support  is provided by BRAC members\, theatre patrons\, private donors\, as well as additional grant support from  the Missouri Arts Council and other organizations. \nBRAC\, PO Box 2004\, Branson\, MO 65615
URL:https://bransonarts.org/event/tickets-2-2-2-6-5-2-4/
ATTACH;FMTTYPE=image/webp:https://bransonarts.org/wp-content/uploads/2026/02/charlie.webp
END:VEVENT
BEGIN:VEVENT
DTSTART;TZID=America/Chicago:20261004T140000
DTEND;TZID=America/Chicago:20261004T160000
DTSTAMP:20260422T174305
CREATED:20260205T024606Z
LAST-MODIFIED:20260205T024606Z
UID:15303-1791122400-1791129600@bransonarts.org
SUMMARY:Charlie and the Chocolate Factory
DESCRIPTION:Branson Regional Arts CouncilThe Branson Regional Arts Council was founded in 1965 as the “Taney Arts Council\,” and officially established 501 (c)(3) non-profit status as “Branson Arts Council\, Inc.” in 1993. \nOur mission is “to create exceptional artistic\, cultural and educational opportunities for our community.” \nFinancial support  is provided by BRAC members\, theatre patrons\, private donors\, as well as additional grant support from  the Missouri Arts Council and other organizations. \nBRAC\, PO Box 2004\, Branson\, MO 65615
URL:https://bransonarts.org/event/tickets-2-2-2-2-2-3-2-2/
ATTACH;FMTTYPE=image/webp:https://bransonarts.org/wp-content/uploads/2026/02/charlie.webp
END:VEVENT
BEGIN:VEVENT
DTSTART;TZID=America/Chicago:20261008T190000
DTEND;TZID=America/Chicago:20261008T210000
DTSTAMP:20260422T174305
CREATED:20260205T024454Z
LAST-MODIFIED:20260205T024454Z
UID:15287-1791486000-1791493200@bransonarts.org
SUMMARY:Charlie and the Chocolate Factory
DESCRIPTION:Branson Regional Arts CouncilThe Branson Regional Arts Council was founded in 1965 as the “Taney Arts Council\,” and officially established 501 (c)(3) non-profit status as “Branson Arts Council\, Inc.” in 1993. \nOur mission is “to create exceptional artistic\, cultural and educational opportunities for our community.” \nFinancial support  is provided by BRAC members\, theatre patrons\, private donors\, as well as additional grant support from  the Missouri Arts Council and other organizations. \nBRAC\, PO Box 2004\, Branson\, MO 65615
URL:https://bransonarts.org/event/tickets-2-2-2-6-5-2-5/
ATTACH;FMTTYPE=image/webp:https://bransonarts.org/wp-content/uploads/2026/02/charlie.webp
END:VEVENT
BEGIN:VEVENT
DTSTART;TZID=America/Chicago:20261009T190000
DTEND;TZID=America/Chicago:20261009T210000
DTSTAMP:20260422T174305
CREATED:20260205T024512Z
LAST-MODIFIED:20260205T024512Z
UID:15288-1791572400-1791579600@bransonarts.org
SUMMARY:Charlie and the Chocolate Factory
DESCRIPTION:Branson Regional Arts CouncilThe Branson Regional Arts Council was founded in 1965 as the “Taney Arts Council\,” and officially established 501 (c)(3) non-profit status as “Branson Arts Council\, Inc.” in 1993. \nOur mission is “to create exceptional artistic\, cultural and educational opportunities for our community.” \nFinancial support  is provided by BRAC members\, theatre patrons\, private donors\, as well as additional grant support from  the Missouri Arts Council and other organizations. \nBRAC\, PO Box 2004\, Branson\, MO 65615
URL:https://bransonarts.org/event/tickets-2-2-2-6-5-2-6/
ATTACH;FMTTYPE=image/webp:https://bransonarts.org/wp-content/uploads/2026/02/charlie.webp
END:VEVENT
BEGIN:VEVENT
DTSTART;TZID=America/Chicago:20261010T190000
DTEND;TZID=America/Chicago:20261010T210000
DTSTAMP:20260422T174305
CREATED:20260205T024531Z
LAST-MODIFIED:20260205T024531Z
UID:15289-1791658800-1791666000@bransonarts.org
SUMMARY:Charlie and the Chocolate Factory
DESCRIPTION:Branson Regional Arts CouncilThe Branson Regional Arts Council was founded in 1965 as the “Taney Arts Council\,” and officially established 501 (c)(3) non-profit status as “Branson Arts Council\, Inc.” in 1993. \nOur mission is “to create exceptional artistic\, cultural and educational opportunities for our community.” \nFinancial support  is provided by BRAC members\, theatre patrons\, private donors\, as well as additional grant support from  the Missouri Arts Council and other organizations. \nBRAC\, PO Box 2004\, Branson\, MO 65615
URL:https://bransonarts.org/event/tickets-2-2-2-6-5-2-7/
END:VEVENT
BEGIN:VEVENT
DTSTART;TZID=America/Chicago:20261011T140000
DTEND;TZID=America/Chicago:20261011T160000
DTSTAMP:20260422T174305
CREATED:20260205T024624Z
LAST-MODIFIED:20260205T024624Z
UID:15304-1791727200-1791734400@bransonarts.org
SUMMARY:Charlie and the Chocolate Factory
DESCRIPTION:Branson Regional Arts CouncilThe Branson Regional Arts Council was founded in 1965 as the “Taney Arts Council\,” and officially established 501 (c)(3) non-profit status as “Branson Arts Council\, Inc.” in 1993. \nOur mission is “to create exceptional artistic\, cultural and educational opportunities for our community.” \nFinancial support  is provided by BRAC members\, theatre patrons\, private donors\, as well as additional grant support from  the Missouri Arts Council and other organizations. \nBRAC\, PO Box 2004\, Branson\, MO 65615
URL:https://bransonarts.org/event/tickets-2-2-2-2-2-3-2-3/
ATTACH;FMTTYPE=image/webp:https://bransonarts.org/wp-content/uploads/2026/02/charlie.webp
END:VEVENT
BEGIN:VEVENT
DTSTART;TZID=America/Chicago:20261203T190000
DTEND;TZID=America/Chicago:20261203T210000
DTSTAMP:20260422T174305
CREATED:20260205T024933Z
LAST-MODIFIED:20260205T024933Z
UID:15311-1796324400-1796331600@bransonarts.org
SUMMARY:Christmas Belles
DESCRIPTION:Branson Regional Arts CouncilThe Branson Regional Arts Council was founded in 1965 as the “Taney Arts Council\,” and officially established 501 (c)(3) non-profit status as “Branson Arts Council\, Inc.” in 1993. \nOur mission is “to create exceptional artistic\, cultural and educational opportunities for our community.” \nFinancial support  is provided by BRAC members\, theatre patrons\, private donors\, as well as additional grant support from  the Missouri Arts Council and other organizations. \nBRAC\, PO Box 2004\, Branson\, MO 65615
URL:https://bransonarts.org/event/tickets-2-2-2-6-5-2-2-2/
ATTACH;FMTTYPE=image/webp:https://bransonarts.org/wp-content/uploads/2026/02/bell-e1770259739101.webp
END:VEVENT
BEGIN:VEVENT
DTSTART;TZID=America/Chicago:20261204T190000
DTEND;TZID=America/Chicago:20261204T210000
DTSTAMP:20260422T174305
CREATED:20260205T024950Z
LAST-MODIFIED:20260205T024950Z
UID:15312-1796410800-1796418000@bransonarts.org
SUMMARY:Christmas Belles
DESCRIPTION:Branson Regional Arts CouncilThe Branson Regional Arts Council was founded in 1965 as the “Taney Arts Council\,” and officially established 501 (c)(3) non-profit status as “Branson Arts Council\, Inc.” in 1993. \nOur mission is “to create exceptional artistic\, cultural and educational opportunities for our community.” \nFinancial support  is provided by BRAC members\, theatre patrons\, private donors\, as well as additional grant support from  the Missouri Arts Council and other organizations. \nBRAC\, PO Box 2004\, Branson\, MO 65615
URL:https://bransonarts.org/event/tickets-2-2-2-6-5-2-2-3/
ATTACH;FMTTYPE=image/webp:https://bransonarts.org/wp-content/uploads/2026/02/bell-e1770259739101.webp
END:VEVENT
BEGIN:VEVENT
DTSTART;TZID=America/Chicago:20261205T190000
DTEND;TZID=America/Chicago:20261205T210000
DTSTAMP:20260422T174305
CREATED:20260205T025008Z
LAST-MODIFIED:20260205T025008Z
UID:15313-1796497200-1796504400@bransonarts.org
SUMMARY:Christmas Belles
DESCRIPTION:Branson Regional Arts CouncilThe Branson Regional Arts Council was founded in 1965 as the “Taney Arts Council\,” and officially established 501 (c)(3) non-profit status as “Branson Arts Council\, Inc.” in 1993. \nOur mission is “to create exceptional artistic\, cultural and educational opportunities for our community.” \nFinancial support  is provided by BRAC members\, theatre patrons\, private donors\, as well as additional grant support from  the Missouri Arts Council and other organizations. \nBRAC\, PO Box 2004\, Branson\, MO 65615
URL:https://bransonarts.org/event/tickets-2-2-2-6-5-2-2-4/
END:VEVENT
BEGIN:VEVENT
DTSTART;TZID=America/Chicago:20261206T140000
DTEND;TZID=America/Chicago:20261206T160000
DTSTAMP:20260422T174305
CREATED:20260205T025125Z
LAST-MODIFIED:20260205T025125Z
UID:15314-1796565600-1796572800@bransonarts.org
SUMMARY:Christmas Belles
DESCRIPTION:Branson Regional Arts CouncilThe Branson Regional Arts Council was founded in 1965 as the “Taney Arts Council\,” and officially established 501 (c)(3) non-profit status as “Branson Arts Council\, Inc.” in 1993. \nOur mission is “to create exceptional artistic\, cultural and educational opportunities for our community.” \nFinancial support  is provided by BRAC members\, theatre patrons\, private donors\, as well as additional grant support from  the Missouri Arts Council and other organizations. \nBRAC\, PO Box 2004\, Branson\, MO 65615
URL:https://bransonarts.org/event/tickets-2-2-2-2-2-3-2-2-2/
ATTACH;FMTTYPE=image/webp:https://bransonarts.org/wp-content/uploads/2026/02/bell-e1770259739101.webp
END:VEVENT
BEGIN:VEVENT
DTSTART;TZID=America/Chicago:20261210T190000
DTEND;TZID=America/Chicago:20261210T210000
DTSTAMP:20260422T174305
CREATED:20260205T030019Z
LAST-MODIFIED:20260205T030019Z
UID:15354-1796929200-1796936400@bransonarts.org
SUMMARY:Christmas Belles
DESCRIPTION:Branson Regional Arts CouncilThe Branson Regional Arts Council was founded in 1965 as the “Taney Arts Council\,” and officially established 501 (c)(3) non-profit status as “Branson Arts Council\, Inc.” in 1993. \nOur mission is “to create exceptional artistic\, cultural and educational opportunities for our community.” \nFinancial support  is provided by BRAC members\, theatre patrons\, private donors\, as well as additional grant support from  the Missouri Arts Council and other organizations. \nBRAC\, PO Box 2004\, Branson\, MO 65615
URL:https://bransonarts.org/event/tickets-2-2-2-6-5-2-2-2-2/
ATTACH;FMTTYPE=image/webp:https://bransonarts.org/wp-content/uploads/2026/02/bell-e1770259739101.webp
END:VEVENT
BEGIN:VEVENT
DTSTART;TZID=America/Chicago:20261211T190000
DTEND;TZID=America/Chicago:20261211T210000
DTSTAMP:20260422T174305
CREATED:20260205T030031Z
LAST-MODIFIED:20260205T030031Z
UID:15355-1797015600-1797022800@bransonarts.org
SUMMARY:Christmas Belles
DESCRIPTION:Branson Regional Arts CouncilThe Branson Regional Arts Council was founded in 1965 as the “Taney Arts Council\,” and officially established 501 (c)(3) non-profit status as “Branson Arts Council\, Inc.” in 1993. \nOur mission is “to create exceptional artistic\, cultural and educational opportunities for our community.” \nFinancial support  is provided by BRAC members\, theatre patrons\, private donors\, as well as additional grant support from  the Missouri Arts Council and other organizations. \nBRAC\, PO Box 2004\, Branson\, MO 65615
URL:https://bransonarts.org/event/tickets-2-2-2-6-5-2-2-2-3/
ATTACH;FMTTYPE=image/webp:https://bransonarts.org/wp-content/uploads/2026/02/bell-e1770259739101.webp
END:VEVENT
BEGIN:VEVENT
DTSTART;TZID=America/Chicago:20261212T190000
DTEND;TZID=America/Chicago:20261212T210000
DTSTAMP:20260422T174305
CREATED:20260205T030044Z
LAST-MODIFIED:20260205T030044Z
UID:15356-1797102000-1797109200@bransonarts.org
SUMMARY:Christmas Belles
DESCRIPTION:Branson Regional Arts CouncilThe Branson Regional Arts Council was founded in 1965 as the “Taney Arts Council\,” and officially established 501 (c)(3) non-profit status as “Branson Arts Council\, Inc.” in 1993. \nOur mission is “to create exceptional artistic\, cultural and educational opportunities for our community.” \nFinancial support  is provided by BRAC members\, theatre patrons\, private donors\, as well as additional grant support from  the Missouri Arts Council and other organizations. \nBRAC\, PO Box 2004\, Branson\, MO 65615
URL:https://bransonarts.org/event/tickets-2-2-2-6-5-2-2-2-4/
ATTACH;FMTTYPE=image/webp:https://bransonarts.org/wp-content/uploads/2026/02/bell-e1770259739101.webp
END:VEVENT
BEGIN:VEVENT
DTSTART;TZID=America/Chicago:20261213T140000
DTEND;TZID=America/Chicago:20261213T160000
DTSTAMP:20260422T174305
CREATED:20260205T030055Z
LAST-MODIFIED:20260205T030055Z
UID:15357-1797170400-1797177600@bransonarts.org
SUMMARY:Christmas Belles
DESCRIPTION:Branson Regional Arts CouncilThe Branson Regional Arts Council was founded in 1965 as the “Taney Arts Council\,” and officially established 501 (c)(3) non-profit status as “Branson Arts Council\, Inc.” in 1993. \nOur mission is “to create exceptional artistic\, cultural and educational opportunities for our community.” \nFinancial support  is provided by BRAC members\, theatre patrons\, private donors\, as well as additional grant support from  the Missouri Arts Council and other organizations. \nBRAC\, PO Box 2004\, Branson\, MO 65615
URL:https://bransonarts.org/event/tickets-2-2-2-2-2-3-2-2-2-2/
ATTACH;FMTTYPE=image/webp:https://bransonarts.org/wp-content/uploads/2026/02/bell-e1770259739101.webp
END:VEVENT
END:VCALENDAR