BEGIN:VCALENDAR
VERSION:2.0
PRODID:-//Branson Regional Arts Council - ECPv6.15.20//NONSGML v1.0//EN
CALSCALE:GREGORIAN
METHOD:PUBLISH
X-WR-CALNAME:Branson Regional Arts Council
X-ORIGINAL-URL:https://bransonarts.org
X-WR-CALDESC:Events for Branson Regional Arts Council
REFRESH-INTERVAL;VALUE=DURATION:PT1H
X-Robots-Tag:noindex
X-PUBLISHED-TTL:PT1H
BEGIN:VTIMEZONE
TZID:America/Chicago
BEGIN:DAYLIGHT
TZOFFSETFROM:-0600
TZOFFSETTO:-0500
TZNAME:CDT
DTSTART:20240310T080000
END:DAYLIGHT
BEGIN:STANDARD
TZOFFSETFROM:-0500
TZOFFSETTO:-0600
TZNAME:CST
DTSTART:20241103T070000
END:STANDARD
BEGIN:DAYLIGHT
TZOFFSETFROM:-0600
TZOFFSETTO:-0500
TZNAME:CDT
DTSTART:20250309T080000
END:DAYLIGHT
BEGIN:STANDARD
TZOFFSETFROM:-0500
TZOFFSETTO:-0600
TZNAME:CST
DTSTART:20251102T070000
END:STANDARD
BEGIN:DAYLIGHT
TZOFFSETFROM:-0600
TZOFFSETTO:-0500
TZNAME:CDT
DTSTART:20260308T080000
END:DAYLIGHT
BEGIN:STANDARD
TZOFFSETFROM:-0500
TZOFFSETTO:-0600
TZNAME:CST
DTSTART:20261101T070000
END:STANDARD
END:VTIMEZONE
BEGIN:VEVENT
DTSTART;TZID=America/Chicago:20250222T130000
DTEND;TZID=America/Chicago:20250222T150000
DTSTAMP:20260421T202640
CREATED:20250221T012550Z
LAST-MODIFIED:20250221T190001Z
UID:14224-1740229200-1740236400@bransonarts.org
SUMMARY:Roald Dahl's Matilda The Musical
DESCRIPTION:Branson Regional Arts CouncilThe Branson Regional Arts Council was founded in 1965 as the “Taney Arts Council\,” and officially established 501 (c)(3) non-profit status as “Branson Arts Council\, Inc.” in 1993. \nOur mission is “to create exceptional artistic\, cultural and educational opportunities for our community.” \nFinancial support  is provided by BRAC members\, theatre patrons\, private donors\, as well as additional grant support from  the Missouri Arts Council and other organizations. \nBRAC\, PO Box 2004\, Branson\, MO 65615
URL:https://bransonarts.org/event/roald-dahls-matilda-the-musical-2/
ATTACH;FMTTYPE=image/jpeg:https://bransonarts.org/wp-content/uploads/2025/02/Vortex-2.jpg
END:VEVENT
BEGIN:VEVENT
DTSTART;TZID=America/Chicago:20250221T190000
DTEND;TZID=America/Chicago:20250221T213000
DTSTAMP:20260421T202640
CREATED:20250221T012307Z
LAST-MODIFIED:20250221T012347Z
UID:14219-1740164400-1740173400@bransonarts.org
SUMMARY:Roald Dahl's Matilda The Musical
DESCRIPTION:Branson Regional Arts CouncilThe Branson Regional Arts Council was founded in 1965 as the “Taney Arts Council\,” and officially established 501 (c)(3) non-profit status as “Branson Arts Council\, Inc.” in 1993. \nOur mission is “to create exceptional artistic\, cultural and educational opportunities for our community.” \nFinancial support  is provided by BRAC members\, theatre patrons\, private donors\, as well as additional grant support from  the Missouri Arts Council and other organizations. \nBRAC\, PO Box 2004\, Branson\, MO 65615
URL:https://bransonarts.org/event/roald-dahls-matilda-the-musical/
ATTACH;FMTTYPE=image/jpeg:https://bransonarts.org/wp-content/uploads/2025/02/Vortex-1.jpg
END:VEVENT
END:VCALENDAR