BEGIN:VCALENDAR
VERSION:2.0
PRODID:-//Branson Regional Arts Council - ECPv6.15.20//NONSGML v1.0//EN
CALSCALE:GREGORIAN
METHOD:PUBLISH
X-ORIGINAL-URL:https://bransonarts.org
X-WR-CALDESC:Events for Branson Regional Arts Council
REFRESH-INTERVAL;VALUE=DURATION:PT1H
X-Robots-Tag:noindex
X-PUBLISHED-TTL:PT1H
BEGIN:VTIMEZONE
TZID:America/Chicago
BEGIN:DAYLIGHT
TZOFFSETFROM:-0600
TZOFFSETTO:-0500
TZNAME:CDT
DTSTART:20250309T080000
END:DAYLIGHT
BEGIN:STANDARD
TZOFFSETFROM:-0500
TZOFFSETTO:-0600
TZNAME:CST
DTSTART:20251102T070000
END:STANDARD
BEGIN:DAYLIGHT
TZOFFSETFROM:-0600
TZOFFSETTO:-0500
TZNAME:CDT
DTSTART:20260308T080000
END:DAYLIGHT
BEGIN:STANDARD
TZOFFSETFROM:-0500
TZOFFSETTO:-0600
TZNAME:CST
DTSTART:20261101T070000
END:STANDARD
BEGIN:DAYLIGHT
TZOFFSETFROM:-0600
TZOFFSETTO:-0500
TZNAME:CDT
DTSTART:20270314T080000
END:DAYLIGHT
BEGIN:STANDARD
TZOFFSETFROM:-0500
TZOFFSETTO:-0600
TZNAME:CST
DTSTART:20271107T070000
END:STANDARD
END:VTIMEZONE
BEGIN:VEVENT
DTSTART;TZID=America/Chicago:20260404T160000
DTEND;TZID=America/Chicago:20260404T180000
DTSTAMP:20260420T073231
CREATED:20260309T034541Z
LAST-MODIFIED:20260309T034541Z
UID:15593-1775318400-1775325600@bransonarts.org
SUMMARY:Special Abilities Showcase
DESCRIPTION:Lorie Best
URL:https://bransonarts.org/event/special-abilities-showcase-2/
ATTACH;FMTTYPE=image/jpeg:https://bransonarts.org/wp-content/uploads/2026/03/Special-Abilities-SC.jpg
END:VEVENT
END:VCALENDAR