BEGIN:VCALENDAR
VERSION:2.0
PRODID:-//Branson Regional Arts Council - ECPv6.15.20//NONSGML v1.0//EN
CALSCALE:GREGORIAN
METHOD:PUBLISH
X-ORIGINAL-URL:https://bransonarts.org
X-WR-CALDESC:Events for Branson Regional Arts Council
REFRESH-INTERVAL;VALUE=DURATION:PT1H
X-Robots-Tag:noindex
X-PUBLISHED-TTL:PT1H
BEGIN:VTIMEZONE
TZID:America/Chicago
BEGIN:DAYLIGHT
TZOFFSETFROM:-0600
TZOFFSETTO:-0500
TZNAME:CDT
DTSTART:20240310T080000
END:DAYLIGHT
BEGIN:STANDARD
TZOFFSETFROM:-0500
TZOFFSETTO:-0600
TZNAME:CST
DTSTART:20241103T070000
END:STANDARD
BEGIN:DAYLIGHT
TZOFFSETFROM:-0600
TZOFFSETTO:-0500
TZNAME:CDT
DTSTART:20250309T080000
END:DAYLIGHT
BEGIN:STANDARD
TZOFFSETFROM:-0500
TZOFFSETTO:-0600
TZNAME:CST
DTSTART:20251102T070000
END:STANDARD
BEGIN:DAYLIGHT
TZOFFSETFROM:-0600
TZOFFSETTO:-0500
TZNAME:CDT
DTSTART:20260308T080000
END:DAYLIGHT
BEGIN:STANDARD
TZOFFSETFROM:-0500
TZOFFSETTO:-0600
TZNAME:CST
DTSTART:20261101T070000
END:STANDARD
END:VTIMEZONE
BEGIN:VEVENT
DTSTART;TZID=America/Chicago:20250719T140000
DTEND;TZID=America/Chicago:20250719T153000
DTSTAMP:20260420T224804
CREATED:20250705T180942Z
LAST-MODIFIED:20250705T180942Z
UID:14622-1752933600-1752939000@bransonarts.org
SUMMARY:Junie B. Jones The Musical
DESCRIPTION:Lorie Best
URL:https://bransonarts.org/event/junie-b-jones-the-musical-2/
ATTACH;FMTTYPE=image/jpeg:https://bransonarts.org/wp-content/uploads/2025/07/Junie-B-Smaller-Size-Logo-1.jpeg
END:VEVENT
BEGIN:VEVENT
DTSTART;TZID=America/Chicago:20250719T190000
DTEND;TZID=America/Chicago:20250719T203000
DTSTAMP:20260420T224804
CREATED:20250705T181258Z
LAST-MODIFIED:20250705T181258Z
UID:14626-1752951600-1752957000@bransonarts.org
SUMMARY:Junie B. Jones The Musical
DESCRIPTION:Lorie Best
URL:https://bransonarts.org/event/junie-b-jones-the-musical-3/
ATTACH;FMTTYPE=image/jpeg:https://bransonarts.org/wp-content/uploads/2025/07/Junie-B-Smaller-Size-Logo-2.jpeg
END:VEVENT
END:VCALENDAR