BEGIN:VCALENDAR
VERSION:2.0
PRODID:-//Branson Regional Arts Council - ECPv6.15.20//NONSGML v1.0//EN
CALSCALE:GREGORIAN
METHOD:PUBLISH
X-WR-CALNAME:Branson Regional Arts Council
X-ORIGINAL-URL:https://bransonarts.org
X-WR-CALDESC:Events for Branson Regional Arts Council
REFRESH-INTERVAL;VALUE=DURATION:PT1H
X-Robots-Tag:noindex
X-PUBLISHED-TTL:PT1H
BEGIN:VTIMEZONE
TZID:America/Chicago
BEGIN:DAYLIGHT
TZOFFSETFROM:-0600
TZOFFSETTO:-0500
TZNAME:CDT
DTSTART:20240310T080000
END:DAYLIGHT
BEGIN:STANDARD
TZOFFSETFROM:-0500
TZOFFSETTO:-0600
TZNAME:CST
DTSTART:20241103T070000
END:STANDARD
BEGIN:DAYLIGHT
TZOFFSETFROM:-0600
TZOFFSETTO:-0500
TZNAME:CDT
DTSTART:20250309T080000
END:DAYLIGHT
BEGIN:STANDARD
TZOFFSETFROM:-0500
TZOFFSETTO:-0600
TZNAME:CST
DTSTART:20251102T070000
END:STANDARD
BEGIN:DAYLIGHT
TZOFFSETFROM:-0600
TZOFFSETTO:-0500
TZNAME:CDT
DTSTART:20260308T080000
END:DAYLIGHT
BEGIN:STANDARD
TZOFFSETFROM:-0500
TZOFFSETTO:-0600
TZNAME:CST
DTSTART:20261101T070000
END:STANDARD
END:VTIMEZONE
BEGIN:VEVENT
DTSTART;TZID=America/Chicago:20250628T100000
DTEND;TZID=America/Chicago:20250628T113000
DTSTAMP:20260421T004129
CREATED:20250616T162734Z
LAST-MODIFIED:20250616T174204Z
UID:14542-1751104800-1751110200@bransonarts.org
SUMMARY:Wizard of Oz Youth Edition Ages Ages 6-12 Cast
DESCRIPTION:Lorie Best
URL:https://bransonarts.org/event/wizard-of-oz-youth-edition-ages-ages-6-12-cast/
ATTACH;FMTTYPE=image/jpeg:https://bransonarts.org/wp-content/uploads/2025/06/Wizard-of-Oz-Logo-3.jpg
END:VEVENT
BEGIN:VEVENT
DTSTART;TZID=America/Chicago:20250628T140000
DTEND;TZID=America/Chicago:20250628T153000
DTSTAMP:20260421T004129
CREATED:20250616T163807Z
LAST-MODIFIED:20250616T174332Z
UID:14549-1751119200-1751124600@bransonarts.org
SUMMARY:Wizard Of OZ Youth Edition Ages 13-18 Cast
DESCRIPTION:Lorie Best
URL:https://bransonarts.org/event/wizard-of-oz-youth-edition-ages-13-18-cast/
ATTACH;FMTTYPE=image/jpeg:https://bransonarts.org/wp-content/uploads/2025/06/Wizard-of-Oz-Logo-4.jpg
END:VEVENT
BEGIN:VEVENT
DTSTART;TZID=America/Chicago:20250628T190000
DTEND;TZID=America/Chicago:20250628T203000
DTSTAMP:20260421T004129
CREATED:20250221T174433Z
LAST-MODIFIED:20250616T163002Z
UID:14312-1751137200-1751142600@bransonarts.org
SUMMARY:Wizard of Oz Youth Edition Ages 13-18 Cast
DESCRIPTION:Lorie Best
URL:https://bransonarts.org/event/wizard-of-oz-youth-edition-3/
ATTACH;FMTTYPE=image/jpeg:https://bransonarts.org/wp-content/uploads/2025/02/Wizard-of-Oz-Logo-1.jpg
END:VEVENT
END:VCALENDAR